BEGIN:VCALENDAR
VERSION:2.0
PRODID:spatie/icalendar-generator
DESCRIPTION:Events from Anita Gonzalez
X-WR-CALDESC:Events from Anita Gonzalez
REFRESH-INTERVAL;VALUE=DURATION:PT1440M
X-PUBLISHED-TTL:PT1440M
BEGIN:VTIMEZONE
TZID:Etc/GMT+5
BEGIN:STANDARD
DTSTART:20240627T000000Z
TZOFFSETFROM:-0500
TZOFFSETTO:-0500
END:STANDARD
END:VTIMEZONE
BEGIN:VTIMEZONE
TZID:UTC
BEGIN:STANDARD
DTSTART:20250729T133449Z
TZOFFSETFROM:+0000
TZOFFSETTO:+0000
END:STANDARD
END:VTIMEZONE
BEGIN:VEVENT
UID:89-75
DTSTAMP:20260425T133449Z
SUMMARY:Faces in the Flames Opera Workshop Washington DC
LOCATION:
ORGANIZER;CN=TheAdmin:MAILTO:johndiehl82@gmail.com
DTSTART;TZID=Etc/GMT+5:20250324T000000
DTEND;TZID=Etc/GMT+5:20250329T010000
X-ALT-DESC;FMTTYPE=TEXT/HTML:
CATEGORIES:General
URL;VALUE=URI:https://anitagonzalez.com/mc-events/faces-in-the-flames-opera
 -workshop-washington-dc/
METHOD:PUBLISH
END:VEVENT
END:VCALENDAR