BEGIN:VCALENDAR
VERSION:2.0
PRODID:spatie/icalendar-generator
DESCRIPTION:Events from Anita Gonzalez
X-WR-CALDESC:Events from Anita Gonzalez
REFRESH-INTERVAL;VALUE=DURATION:PT1440M
X-PUBLISHED-TTL:PT1440M
BEGIN:VTIMEZONE
TZID:Etc/GMT+5
BEGIN:STANDARD
DTSTART:20230821T140000Z
TZOFFSETFROM:-0500
TZOFFSETTO:-0500
END:STANDARD
END:VTIMEZONE
BEGIN:VTIMEZONE
TZID:UTC
BEGIN:STANDARD
DTSTART:20250729T183416Z
TZOFFSETFROM:+0000
TZOFFSETTO:+0000
END:STANDARD
END:VTIMEZONE
BEGIN:VEVENT
UID:74-60
DTSTAMP:20260425T183416Z
SUMMARY:American Opera Project \"First Glimpse\" Performances
LOCATION:
ORGANIZER;CN=TheAdmin:MAILTO:johndiehl82@gmail.com
DTSTART;TZID=Etc/GMT+5:20240517T140000
DTEND;TZID=Etc/GMT+5:20240518T150000
X-ALT-DESC;FMTTYPE=TEXT/HTML:
CATEGORIES:General
URL;VALUE=URI:https://anitagonzalez.com/mc-events/american-opera-project-fi
 rst-glimpse-performances/
METHOD:PUBLISH
END:VEVENT
END:VCALENDAR