BEGIN:VCALENDAR
VERSION:2.0
PRODID:spatie/icalendar-generator
DESCRIPTION:Events from Anita Gonzalez
X-WR-CALDESC:Events from Anita Gonzalez
REFRESH-INTERVAL;VALUE=DURATION:PT1440M
X-PUBLISHED-TTL:PT1440M
BEGIN:VTIMEZONE
TZID:Etc/GMT+5
BEGIN:STANDARD
DTSTART:20230501T000000Z
TZOFFSETFROM:-0500
TZOFFSETTO:-0500
END:STANDARD
END:VTIMEZONE
BEGIN:VTIMEZONE
TZID:UTC
BEGIN:STANDARD
DTSTART:20250730T003658Z
TZOFFSETFROM:+0000
TZOFFSETTO:+0000
END:STANDARD
END:VTIMEZONE
BEGIN:VEVENT
UID:63-46
DTSTAMP:20260426T003658Z
SUMMARY:Virtual Reality Test Shoot
LOCATION:
ORGANIZER;CN=TheAdmin:MAILTO:johndiehl82@gmail.com
DTSTART;TZID=Etc/GMT+5:20240126T000000
DTEND;TZID=Etc/GMT+5:20240129T010000
X-ALT-DESC;FMTTYPE=TEXT/HTML:Site Visit for a Virtual Reality Production wi
 th Academic Innovation at the University of Michigan - Ann Arbor
CATEGORIES:General
URL;VALUE=URI:https://anitagonzalez.com/mc-events/virtual-reality-test-shoo
 t/
METHOD:PUBLISH
END:VEVENT
END:VCALENDAR