BEGIN:VCALENDAR
VERSION:2.0
PRODID:spatie/icalendar-generator
DESCRIPTION:Events from Anita Gonzalez
X-WR-CALDESC:Events from Anita Gonzalez
REFRESH-INTERVAL;VALUE=DURATION:PT1440M
X-PUBLISHED-TTL:PT1440M
BEGIN:VTIMEZONE
TZID:Etc/GMT+5
BEGIN:STANDARD
DTSTART:20230316T000000Z
TZOFFSETFROM:-0500
TZOFFSETTO:-0500
END:STANDARD
END:VTIMEZONE
BEGIN:VTIMEZONE
TZID:UTC
BEGIN:STANDARD
DTSTART:20250729T215738Z
TZOFFSETFROM:+0000
TZOFFSETTO:+0000
END:STANDARD
END:VTIMEZONE
BEGIN:VEVENT
UID:62-45
DTSTAMP:20260425T215738Z
SUMMARY:Beyond the Podium Lecture Series
LOCATION:
ORGANIZER;CN=TheAdmin:MAILTO:johndiehl82@gmail.com
DTSTART;TZID=Etc/GMT+5;VALUE=DATE:20231211
DTEND;TZID=Etc/GMT+5;VALUE=DATE:20231223
X-ALT-DESC;FMTTYPE=TEXT/HTML:Caribbean Lecture Series for Celebrity Cruise 
 Line
CATEGORIES:General
URL;VALUE=URI:https://anitagonzalez.com/mc-events/beyond-the-podium-lecture
 -series/
METHOD:PUBLISH
END:VEVENT
END:VCALENDAR