BEGIN:VCALENDAR
VERSION:2.0
PRODID:spatie/icalendar-generator
DESCRIPTION:Events from Anita Gonzalez
X-WR-CALDESC:Events from Anita Gonzalez
REFRESH-INTERVAL;VALUE=DURATION:PT1440M
X-PUBLISHED-TTL:PT1440M
BEGIN:VTIMEZONE
TZID:Etc/GMT+5
BEGIN:STANDARD
DTSTART:20230212T000000Z
TZOFFSETFROM:-0500
TZOFFSETTO:-0500
END:STANDARD
END:VTIMEZONE
BEGIN:VTIMEZONE
TZID:UTC
BEGIN:STANDARD
DTSTART:20250730T023245Z
TZOFFSETFROM:+0000
TZOFFSETTO:+0000
END:STANDARD
END:VTIMEZONE
BEGIN:VEVENT
UID:46-42
DTSTAMP:20260426T023245Z
SUMMARY:American Society for Theatre Research Conference
LOCATION:
ORGANIZER;CN=TheAdmin:MAILTO:johndiehl82@gmail.com
DTSTART;TZID=Etc/GMT+5:20231109T000000
DTEND;TZID=Etc/GMT+5:20231112T010000
X-ALT-DESC;FMTTYPE=TEXT/HTML:Keynote Presentation Hope: Digging in Soil and
  Performing the Vernacular
CATEGORIES:General
URL;VALUE=URI:https://anitagonzalez.com/mc-events/american-society-for-thea
 tre-research-conference-2/
METHOD:PUBLISH
END:VEVENT
END:VCALENDAR