BEGIN:VCALENDAR
VERSION:2.0
PRODID:spatie/icalendar-generator
DESCRIPTION:Events from Anita Gonzalez
X-WR-CALDESC:Events from Anita Gonzalez
REFRESH-INTERVAL;VALUE=DURATION:PT1440M
X-PUBLISHED-TTL:PT1440M
BEGIN:VTIMEZONE
TZID:Etc/GMT+5
BEGIN:STANDARD
DTSTART:20230102T000000Z
TZOFFSETFROM:-0500
TZOFFSETTO:-0500
END:STANDARD
END:VTIMEZONE
BEGIN:VTIMEZONE
TZID:UTC
BEGIN:STANDARD
DTSTART:20250730T005849Z
TZOFFSETFROM:+0000
TZOFFSETTO:+0000
END:STANDARD
END:VTIMEZONE
BEGIN:VEVENT
UID:44-40
DTSTAMP:20260426T005849Z
SUMMARY:American Academy of Arts and Sciences
LOCATION:
ORGANIZER;CN=TheAdmin:MAILTO:johndiehl82@gmail.com
DTSTART;TZID=Etc/GMT+5:20230929T000000
DTEND;TZID=Etc/GMT+5:20230930T010000
X-ALT-DESC;FMTTYPE=TEXT/HTML:Inauguration Event in Cambridge\, Massachusett
 s.
CATEGORIES:General
URL;VALUE=URI:https://anitagonzalez.com/mc-events/american-academy-of-arts-
 and-sciences/
METHOD:PUBLISH
END:VEVENT
END:VCALENDAR