BEGIN:VCALENDAR
VERSION:2.0
PRODID:spatie/icalendar-generator
DESCRIPTION:Events from Anita Gonzalez
X-WR-CALDESC:Events from Anita Gonzalez
REFRESH-INTERVAL;VALUE=DURATION:PT1440M
X-PUBLISHED-TTL:PT1440M
BEGIN:VTIMEZONE
TZID:Etc/GMT+5
BEGIN:STANDARD
DTSTART:20221025T000000Z
TZOFFSETFROM:-0500
TZOFFSETTO:-0500
END:STANDARD
END:VTIMEZONE
BEGIN:VTIMEZONE
TZID:UTC
BEGIN:STANDARD
DTSTART:20250730T035648Z
TZOFFSETFROM:+0000
TZOFFSETTO:+0000
END:STANDARD
END:VTIMEZONE
BEGIN:VEVENT
UID:42-38
DTSTAMP:20260426T035648Z
SUMMARY:International Federation for Theatre Research - Ghana
LOCATION:
ORGANIZER;CN=TheAdmin:MAILTO:johndiehl82@gmail.com
DTSTART;TZID=Etc/GMT+5;VALUE=DATE:20230722
DTEND;TZID=Etc/GMT+5;VALUE=DATE:20230730
X-ALT-DESC;FMTTYPE=TEXT/HTML:Historiography Group Presentation: Cat Island 
 Sailboats and Other Revolutionary Thoughts.
CATEGORIES:General
URL;VALUE=URI:https://anitagonzalez.com/mc-events/international-federation-
 for-theatre-research-ghana/
METHOD:PUBLISH
END:VEVENT
END:VCALENDAR