BEGIN:VCALENDAR
VERSION:2.0
PRODID:spatie/icalendar-generator
DESCRIPTION:Events from Anita Gonzalez
X-WR-CALDESC:Events from Anita Gonzalez
REFRESH-INTERVAL;VALUE=DURATION:PT1440M
X-PUBLISHED-TTL:PT1440M
BEGIN:VTIMEZONE
TZID:Etc/GMT+5
BEGIN:STANDARD
DTSTART:20221103T000000Z
TZOFFSETFROM:-0500
TZOFFSETTO:-0500
END:STANDARD
END:VTIMEZONE
BEGIN:VTIMEZONE
TZID:UTC
BEGIN:STANDARD
DTSTART:20250730T023132Z
TZOFFSETFROM:+0000
TZOFFSETTO:+0000
END:STANDARD
END:VTIMEZONE
BEGIN:VEVENT
UID:41-37
DTSTAMP:20260426T023132Z
SUMMARY:Ybor City Book Workshop with Latine Musical Theater Lab
LOCATION:
ORGANIZER;CN=TheAdmin:MAILTO:johndiehl82@gmail.com
DTSTART;TZID=Etc/GMT+5:20230731T000000
DTEND;TZID=Etc/GMT+5:20230807T010000
X-ALT-DESC;FMTTYPE=TEXT/HTML:Book development workshop and showcase perform
 ance of Ybor City the Musical  at 59 West 59th Street studios in New York
  City produced by The Woodshed at RJI Georgetown and the Latine Musical Th
 eater Lab
CATEGORIES:General
URL;VALUE=URI:https://anitagonzalez.com/mc-events/ybor-city-book-workshop-w
 ith-latine-musical-theater-lab/
METHOD:PUBLISH
END:VEVENT
END:VCALENDAR