BEGIN:VCALENDAR
VERSION:2.0
PRODID:spatie/icalendar-generator
DESCRIPTION:Events from Anita Gonzalez
X-WR-CALDESC:Events from Anita Gonzalez
REFRESH-INTERVAL;VALUE=DURATION:PT1440M
X-PUBLISHED-TTL:PT1440M
BEGIN:VTIMEZONE
TZID:Etc/GMT+5
BEGIN:STANDARD
DTSTART:20220605T000000Z
TZOFFSETFROM:-0500
TZOFFSETTO:-0500
END:STANDARD
END:VTIMEZONE
BEGIN:VTIMEZONE
TZID:UTC
BEGIN:STANDARD
DTSTART:20250730T035544Z
TZOFFSETFROM:+0000
TZOFFSETTO:+0000
END:STANDARD
END:VTIMEZONE
BEGIN:VEVENT
UID:34-30
DTSTAMP:20260426T035544Z
SUMMARY:Racial Justice Institute South Africa Symposium
LOCATION:
ORGANIZER;CN=TheAdmin:MAILTO:johndiehl82@gmail.com
DTSTART;TZID=Etc/GMT+5:20230302T000000
DTEND;TZID=Etc/GMT+5:20230313T010000
X-ALT-DESC;FMTTYPE=TEXT/HTML:In collaboration with University of the Witwat
 ersrand faculty member Mhlambi Innocentia Jabulisile\, the Racial Justice 
 Institute is developing an international symposium about “Women’s Libe
 ration and Protest through Transnational Musical Storytelling\,” which w
 ill take place in Spring 2023. The weeklong academic workshop and symposiu
 m at the University of the Witwatersrand will bring together a cohort of&amp;h
 ellip\;
CATEGORIES:General
URL;VALUE=URI:https://anitagonzalez.com/mc-events/racial-justice-institute-
 south-africa-symposium/
METHOD:PUBLISH
END:VEVENT
END:VCALENDAR