BEGIN:VCALENDAR
VERSION:2.0
PRODID:spatie/icalendar-generator
DESCRIPTION:Events from Anita Gonzalez
X-WR-CALDESC:Events from Anita Gonzalez
REFRESH-INTERVAL;VALUE=DURATION:PT1440M
X-PUBLISHED-TTL:PT1440M
BEGIN:VTIMEZONE
TZID:Etc/GMT+5
BEGIN:STANDARD
DTSTART:20240126T000000Z
TZOFFSETFROM:-0500
TZOFFSETTO:-0500
END:STANDARD
END:VTIMEZONE
BEGIN:VTIMEZONE
TZID:UTC
BEGIN:STANDARD
DTSTART:20250729T152305Z
TZOFFSETFROM:+0000
TZOFFSETTO:+0000
END:STANDARD
END:VTIMEZONE
BEGIN:VEVENT
UID:83-69
DTSTAMP:20260425T152305Z
SUMMARY:Opera Salon and Workshop with Pegasus Opera in London
LOCATION:
ORGANIZER;CN=TheAdmin:MAILTO:johndiehl82@gmail.com
DTSTART;TZID=Etc/GMT+5;VALUE=DATE:20241022
DTEND;TZID=Etc/GMT+5;VALUE=DATE:20241024
X-ALT-DESC;FMTTYPE=TEXT/HTML:
CATEGORIES:General
URL;VALUE=URI:https://anitagonzalez.com/mc-events/opera-salon-and-workshop-
 with-pegasus-opera-in-london/
METHOD:PUBLISH
END:VEVENT
END:VCALENDAR