BEGIN:VCALENDAR
VERSION:2.0
PRODID:spatie/icalendar-generator
DESCRIPTION:Events from Anita Gonzalez
X-WR-CALDESC:Events from Anita Gonzalez
REFRESH-INTERVAL;VALUE=DURATION:PT1440M
X-PUBLISHED-TTL:PT1440M
BEGIN:VTIMEZONE
TZID:Etc/GMT+5
BEGIN:STANDARD
DTSTART:20230618T183000Z
TZOFFSETFROM:-0500
TZOFFSETTO:-0500
END:STANDARD
END:VTIMEZONE
BEGIN:VTIMEZONE
TZID:UTC
BEGIN:STANDARD
DTSTART:20250729T183924Z
TZOFFSETFROM:+0000
TZOFFSETTO:+0000
END:STANDARD
END:VTIMEZONE
BEGIN:VEVENT
UID:71-55
DTSTAMP:20260425T183924Z
SUMMARY:Opera  - DC Emancipation and the Vote - Alliance for New Music Thea
 ter
LOCATION:
ORGANIZER;CN=TheAdmin:MAILTO:johndiehl82@gmail.com
DTSTART;TZID=Etc/GMT+5:20240314T183000
DTEND;TZID=Etc/GMT+5:20240314T193000
X-ALT-DESC;FMTTYPE=TEXT/HTML:Choreography tells the story of Black Georgeto
 wn
CATEGORIES:General
URL;VALUE=URI:https://anitagonzalez.com/mc-events/opera-dc-emancipation-and
 -the-vote-alliance-for-new-music-theater/
METHOD:PUBLISH
END:VEVENT
END:VCALENDAR