BEGIN:VCALENDAR
VERSION:2.0
PRODID:spatie/icalendar-generator
DESCRIPTION:Events from Anita Gonzalez
X-WR-CALDESC:Events from Anita Gonzalez
REFRESH-INTERVAL;VALUE=DURATION:PT1440M
X-PUBLISHED-TTL:PT1440M
BEGIN:VTIMEZONE
TZID:Etc/GMT+5
BEGIN:STANDARD
DTSTART:20230513T183000Z
TZOFFSETFROM:-0500
TZOFFSETTO:-0500
END:STANDARD
END:VTIMEZONE
BEGIN:VTIMEZONE
TZID:UTC
BEGIN:STANDARD
DTSTART:20250729T182417Z
TZOFFSETFROM:+0000
TZOFFSETTO:+0000
END:STANDARD
END:VTIMEZONE
BEGIN:VEVENT
UID:70-54
DTSTAMP:20260425T182417Z
SUMMARY:Absolutamente Negro
LOCATION:Gala Hispanic Theater
ORGANIZER;CN=TheAdmin:MAILTO:johndiehl82@gmail.com
DTSTART;TZID=Etc/GMT+5:20240207T183000
DTEND;TZID=Etc/GMT+5:20240207T203000
X-ALT-DESC;FMTTYPE=TEXT/HTML:Panel Discussion: The Afro-Latino/a/ex Dilemma
 : Part of Both (Black and Latin)\, Excluded by Both
CATEGORIES:General
URL;VALUE=URI:https://anitagonzalez.com/mc-events/absolutamente-negro/
METHOD:PUBLISH
END:VEVENT
END:VCALENDAR