BEGIN:VCALENDAR
VERSION:2.0
PRODID:spatie/icalendar-generator
DESCRIPTION:Events from Anita Gonzalez
X-WR-CALDESC:Events from Anita Gonzalez
REFRESH-INTERVAL;VALUE=DURATION:PT1440M
X-PUBLISHED-TTL:PT1440M
BEGIN:VTIMEZONE
TZID:Etc/GMT+5
BEGIN:STANDARD
DTSTART:20230722T000000Z
TZOFFSETFROM:-0500
TZOFFSETTO:-0500
END:STANDARD
END:VTIMEZONE
BEGIN:VTIMEZONE
TZID:UTC
BEGIN:STANDARD
DTSTART:20250729T184513Z
TZOFFSETFROM:+0000
TZOFFSETTO:+0000
END:STANDARD
END:VTIMEZONE
BEGIN:VEVENT
UID:68-52
DTSTAMP:20260425T184513Z
SUMMARY:John Caroll Weekend in Dublin
LOCATION:
ORGANIZER;CN=TheAdmin:MAILTO:johndiehl82@gmail.com
DTSTART;TZID=Etc/GMT+5:20240417T000000
DTEND;TZID=Etc/GMT+5:20240421T010000
X-ALT-DESC;FMTTYPE=TEXT/HTML:Presentations for the Georgetown Alumni Associ
 ation at their Annual Event.
CATEGORIES:General
URL;VALUE=URI:https://anitagonzalez.com/mc-events/john-caroll-weekend-in-du
 blin/
METHOD:PUBLISH
END:VEVENT
END:VCALENDAR