BEGIN:VCALENDAR
VERSION:2.0
PRODID:spatie/icalendar-generator
DESCRIPTION:Events from Anita Gonzalez
X-WR-CALDESC:Events from Anita Gonzalez
REFRESH-INTERVAL;VALUE=DURATION:PT1440M
X-PUBLISHED-TTL:PT1440M
BEGIN:VTIMEZONE
TZID:Etc/GMT+5
BEGIN:STANDARD
DTSTART:20230511T140000Z
TZOFFSETFROM:-0500
TZOFFSETTO:-0500
END:STANDARD
END:VTIMEZONE
BEGIN:VTIMEZONE
TZID:UTC
BEGIN:STANDARD
DTSTART:20250729T195859Z
TZOFFSETFROM:+0000
TZOFFSETTO:+0000
END:STANDARD
END:VTIMEZONE
BEGIN:VEVENT
UID:56-43
DTSTAMP:20260425T195859Z
SUMMARY:Composers &amp;amp\; The Voice
LOCATION:
ORGANIZER;CN=TheAdmin:MAILTO:johndiehl82@gmail.com
RRULE:FREQ=WEEKLY;INTERVAL=2;UNTIL=20240416T000000Z
DTSTART;TZID=Etc/GMT+5:20240205T140000
DTEND;TZID=Etc/GMT+5:20240205T210000
X-ALT-DESC;FMTTYPE=TEXT/HTML:Fellowship work with American Opera Project in
  Brooklyn New York
CATEGORIES:General
URL;VALUE=URI:https://anitagonzalez.com/mc-events/composers-the-voice/?mc_i
 d=56
METHOD:PUBLISH
END:VEVENT
END:VCALENDAR