BEGIN:VCALENDAR
VERSION:2.0
PRODID:spatie/icalendar-generator
DESCRIPTION:Events from Anita Gonzalez
X-WR-CALDESC:Events from Anita Gonzalez
REFRESH-INTERVAL;VALUE=DURATION:PT1440M
X-PUBLISHED-TTL:PT1440M
BEGIN:VTIMEZONE
TZID:Etc/GMT+5
BEGIN:STANDARD
DTSTART:20220911T000000Z
TZOFFSETFROM:-0500
TZOFFSETTO:-0500
END:STANDARD
END:VTIMEZONE
BEGIN:VTIMEZONE
TZID:UTC
BEGIN:STANDARD
DTSTART:20250730T023249Z
TZOFFSETFROM:+0000
TZOFFSETTO:+0000
END:STANDARD
END:VTIMEZONE
BEGIN:VEVENT
UID:40-36
DTSTAMP:20260426T023249Z
SUMMARY:96 Hour Opera with Atlantic Opera Company
LOCATION:
ORGANIZER;CN=TheAdmin:MAILTO:johndiehl82@gmail.com
DTSTART;TZID=Etc/GMT+5;VALUE=DATE:20230608
DTEND;TZID=Etc/GMT+5;VALUE=DATE:20230613
X-ALT-DESC;FMTTYPE=TEXT/HTML:Selected as a finalist for the 96 Hour Opera c
 ompetition.
CATEGORIES:General
URL;VALUE=URI:https://anitagonzalez.com/mc-events/96-hour-opera-with-atlant
 ic-opera-company/
METHOD:PUBLISH
END:VEVENT
END:VCALENDAR