BEGIN:VCALENDAR
VERSION:2.0
PRODID:spatie/icalendar-generator
DESCRIPTION:Events from Anita Gonzalez
X-WR-CALDESC:Events from Anita Gonzalez
REFRESH-INTERVAL;VALUE=DURATION:PT1440M
X-PUBLISHED-TTL:PT1440M
BEGIN:VTIMEZONE
TZID:Etc/GMT+5
BEGIN:STANDARD
DTSTART:20220425T150000Z
TZOFFSETFROM:-0500
TZOFFSETTO:-0500
END:STANDARD
END:VTIMEZONE
BEGIN:VTIMEZONE
TZID:UTC
BEGIN:STANDARD
DTSTART:20250730T040554Z
TZOFFSETFROM:+0000
TZOFFSETTO:+0000
END:STANDARD
END:VTIMEZONE
BEGIN:VEVENT
UID:32-28
DTSTAMP:20260426T040554Z
SUMMARY:Opera Bites- Courthouse Bells libretto by Anita Gonzalez
LOCATION:
ORGANIZER;CN=TheAdmin:MAILTO:johndiehl82@gmail.com
DTSTART;TZID=Etc/GMT+5:20230120T150000
DTEND;TZID=Etc/GMT+5:20230122T160000
X-ALT-DESC;FMTTYPE=TEXT/HTML:Premiere of Seven Short operas at Boston Opera
  Collaborative
CATEGORIES:General
URL;VALUE=URI:https://anitagonzalez.com/mc-events/opera-bites-courthouse-be
 lls-libretto-by-anita-gonzalez/
METHOD:PUBLISH
END:VEVENT
END:VCALENDAR